BEGIN:VCALENDAR
VERSION:2.0
PRODID:SchoolNow
CALSCALE:GREGORIAN
BEGIN:VEVENT
UID:bc18baac-8f42-11f0-9441-0e014a268f33
DTSTAMP:20250929T134816Z
SUMMARY:ULEAD Leadership Conference 2025
LOCATION:Lafayette Campus
URL;VALUE=URI:https://www.solacc.edu/about-us/calendar/8610108/ulead-studen
 t-leardership-conference-clone
DTSTART;VALUE=DATE:20251001
DTEND;VALUE=DATE:20251003
END:VEVENT
END:VCALENDAR
