BEGIN:VCALENDAR
VERSION:2.0
PRODID:SchoolNow
CALSCALE:GREGORIAN
BEGIN:VEVENT
UID:ab040f40-8f39-11f0-8320-0e014a268f33
DTSTAMP:20250919T183114Z
SUMMARY:Student Government Association (SGA) General Meeting
LOCATION:Health & Science Auditorium (HS100) and Virtual (Microsoft Teams)
URL;VALUE=URI:https://www.solacc.edu/about-us/calendar/8610100/transfer-fai
 r-clone-clone-clone
DTSTART:20251124T210000Z
DTEND:20251124T220000Z
END:VEVENT
END:VCALENDAR
