BEGIN:VCALENDAR
VERSION:2.0
PRODID:SchoolNow
CALSCALE:GREGORIAN
BEGIN:VEVENT
UID:8d3f9e98-8f39-11f0-b055-0a58a9feac02
DTSTAMP:20250919T182955Z
SUMMARY:Student Government Association (SGA) General Meeting
LOCATION:Health & Science Auditorium (HS100) and Virtual (Microsoft Teams)
URL;VALUE=URI:https://www.solacc.edu/about-us/calendar/8610099/transfer-fai
 r-clone-clone-clone
DTSTART:20251027T200000Z
DTEND:20251027T210000Z
END:VEVENT
END:VCALENDAR
