BEGIN:VCALENDAR
VERSION:2.0
PRODID:SchoolNow
CALSCALE:GREGORIAN
BEGIN:VEVENT
UID:bd322e1a-8f37-11f0-af4f-0affd69af163
DTSTAMP:20250919T183040Z
SUMMARY:Student Government Association (SGA) General Meeting
LOCATION:Health & Science Auditorium (HS100) and Virtual (Microsoft Teams)
URL;VALUE=URI:https://www.solacc.edu/about-us/calendar/8610098/transfer-fai
 r-clone-clone
DTSTART:20250922T200000Z
DTEND:20250922T210000Z
END:VEVENT
END:VCALENDAR
