BEGIN:VCALENDAR
VERSION:2.0
PRODID:SchoolNow
CALSCALE:GREGORIAN
BEGIN:VEVENT
UID:58d5cee2-8ce2-11f0-b4f4-02d2225c000b
DTSTAMP:20250908T183501Z
SUMMARY:JC Penney Suit-Up Event
LOCATION:JCPenney\, 3125 Louisiana Avenue\, Lafayette
URL;VALUE=URI:https://www.solacc.edu/about-us/calendar/8596106/jc-penney-su
 it-up-event
DTSTART:20250918T210000Z
DTEND:20250919T000000Z
END:VEVENT
END:VCALENDAR
