BEGIN:VCALENDAR
VERSION:2.0
PRODID:SchoolNow
CALSCALE:GREGORIAN
BEGIN:VEVENT
UID:7ab7863c-8ce1-11f0-bf1b-0e73a3925813
DTSTAMP:20250917T024530Z
SUMMARY:Nursing & Allied Health Career Fair
LOCATION:Devalcourt Auditorium\, 320 Devalcourt St.\, Lafayette
URL;VALUE=URI:https://www.solacc.edu/about-us/calendar/8596105/nursing-alli
 ed-health-career-fair
DTSTART:20251001T160000Z
DTEND:20251001T180000Z
END:VEVENT
END:VCALENDAR
