BEGIN:VCALENDAR
VERSION:2.0
PRODID:SchoolNow
CALSCALE:GREGORIAN
BEGIN:VEVENT
UID:021cbfb2-8ce1-11f0-8ec8-0e8bc1cedf75
DTSTAMP:20250908T182425Z
SUMMARY:BITS & STEM Career Fair
LOCATION:Devalcourt Auditorium\, 320 Devalcourt St.\, Lafayette
URL;VALUE=URI:https://www.solacc.edu/about-us/calendar/8596102/bits-stem-ca
 reer-fair
DTSTART:20251007T140000Z
DTEND:20251007T160000Z
END:VEVENT
END:VCALENDAR
