BEGIN:VCALENDAR
VERSION:2.0
PRODID:SchoolNow
CALSCALE:GREGORIAN
BEGIN:VEVENT
UID:c780688c-82b2-11f0-b202-0a58a9feac02
DTSTAMP:20250826T192801Z
SUMMARY:Grand Canyon University Recruiter Visit
LOCATION:Lafayette Campus - Ardoin Building Room 105
URL;VALUE=URI:https://www.solacc.edu/about-us/calendar/8546929/grand-canyon
 -recruiter-visit
DTSTART:20250915T140000Z
DTEND:20250915T180000Z
END:VEVENT
END:VCALENDAR
