BEGIN:VCALENDAR
VERSION:2.0
PRODID:SchoolNow
CALSCALE:GREGORIAN
BEGIN:VEVENT
UID:6a6368c0-82b2-11f0-b2bb-0affe844e53d
DTSTAMP:20250826T192524Z
SUMMARY:UL Recruiter Visit
LOCATION:Lafayette Campus - Ardoin Building Room 105
URL;VALUE=URI:https://www.solacc.edu/about-us/calendar/8546927/ul-recruiter
 -visit
DTSTART:20250908T140000Z
DTEND:20250908T170000Z
END:VEVENT
END:VCALENDAR
