BEGIN:VCALENDAR
VERSION:2.0
PRODID:SchoolNow
CALSCALE:GREGORIAN
BEGIN:VEVENT
UID:cd4a2828-81fb-11f0-939d-029f65b6582b
DTSTAMP:20250827T160254Z
SUMMARY:WellNest Fest - Wellness Resource Fair & Transfer Fair
LOCATION:Lafayette Campus - Devalcourt Lobby
URL;VALUE=URI:https://www.solacc.edu/about-us/calendar/8542523/transfer-fai
 r-clone
DTSTART:20250910T150000Z
DTEND:20250910T180000Z
END:VEVENT
END:VCALENDAR
