BEGIN:VCALENDAR
VERSION:2.0
PRODID:SchoolNow
CALSCALE:GREGORIAN
BEGIN:VEVENT
UID:9fd0cea4-7d2a-11f0-8798-0a58a9feac02
DTSTAMP:20250827T160215Z
SUMMARY:Transfer Fair
LOCATION:Lafayette Campus - Devalcourt Lobby
URL;VALUE=URI:https://www.solacc.edu/about-us/calendar/8522443/transfer-fai
 r
DTSTART:20250910T150000Z
DTEND:20250910T180000Z
END:VEVENT
END:VCALENDAR
