BEGIN:VCALENDAR
VERSION:2.0
PRODID:SchoolNow
CALSCALE:GREGORIAN
BEGIN:VEVENT
UID:9eb00c04-7890-11f0-8dfa-0affd7b7bcdb
DTSTAMP:20250814T215606Z
SUMMARY:Theater Showcase of "Fences"
LOCATION:SoLAcc Lafayette - Devalcourt Auditorium (320 Devalcourt Dr.\, Laf
 ayette)
URL;VALUE=URI:https://www.solacc.edu/about-us/calendar/8506136/sneak-peak-o
 f-fences
DTSTART:20250902T180000Z
DTEND:20250902T190000Z
END:VEVENT
END:VCALENDAR
