BEGIN:VCALENDAR
VERSION:2.0
PRODID:SchoolNow
CALSCALE:GREGORIAN
BEGIN:VEVENT
UID:539d8740-721f-11f0-aa20-0a58a9feac02
DTSTAMP:20250813T143449Z
SUMMARY:Welcome Week Fall 2025
LOCATION:All Campuses (Please check the schedule in the description)
URL;VALUE=URI:https://www.solacc.edu/about-us/calendar/8473101/welcome-week
DTSTART;VALUE=DATE:20250816
DTEND;VALUE=DATE:20250822
END:VEVENT
END:VCALENDAR
