BEGIN:VCALENDAR
VERSION:2.0
PRODID:SchoolNow
CALSCALE:GREGORIAN
BEGIN:VEVENT
UID:dcc4b24c-61b6-11f0-a72d-0e59f692aa7b
DTSTAMP:20250805T195815Z
SUMMARY:The Owl Connection - Student Convocation
LOCATION:SoLAcc Lafayette - Devalcourt Building (320 Devalcourt Dr.\, Lafay
 ette)
URL;VALUE=URI:https://www.solacc.edu/about-us/calendar/8417500/owl-connecti
 on
DTSTART:20250813T133000Z
DTEND:20250813T180000Z
END:VEVENT
END:VCALENDAR
