BEGIN:VCALENDAR
VERSION:2.0
PRODID:SchoolNow
CALSCALE:GREGORIAN
BEGIN:VEVENT
UID:0ec75b7a-60d4-11f0-82a6-0affed69585f
DTSTAMP:20250714T170034Z
SUMMARY:Advising Event (Virtual or In-Person)
LOCATION:Lafayette Campus\, Health and Science\, Room 106 (1101 Bertrand Dr
 .\, Lafayette) or Webex
URL;VALUE=URI:https://www.solacc.edu/about-us/calendar/8414028/advising-eve
 nt-clone
DTSTART:20250801T160000Z
DTEND:20250801T190000Z
END:VEVENT
END:VCALENDAR
