BEGIN:VCALENDAR
VERSION:2.0
PRODID:SchoolNow
CALSCALE:GREGORIAN
BEGIN:VEVENT
UID:d39d3b0a-60d3-11f0-84ad-0a58a9feac02
DTSTAMP:20250714T170726Z
SUMMARY:Advising Event (Virtual or In-Person)
LOCATION:Lafayette Campus\, Health and Science\, Room 106 (1101 Bertrand Dr
 .\, Lafayette) or Webex
URL;VALUE=URI:https://www.solacc.edu/about-us/calendar/8414026/advising-eve
 nt
DTSTART:20250725T160000Z
DTEND:20250725T190000Z
END:VEVENT
END:VCALENDAR
