BEGIN:VCALENDAR
VERSION:2.0
PRODID:SchoolNow
CALSCALE:GREGORIAN
BEGIN:VEVENT
UID:d3682cb6-5373-11f0-888c-0a58a9feac02
DTSTAMP:20250627T170349Z
SUMMARY:Train & Connect Acadiana Summer Camp: NCCR Core
LOCATION:SoLAcc Lafayette Campus\, 1101 Bertrand Drive
URL;VALUE=URI:https://www.solacc.edu/about-us/calendar/8361401/train-connec
 t-acadiana-summer-camp-servsafe-food-protection-manager-certification-clon
 e
DTSTART:20250707T140000Z
DTEND:20250724T183000Z
END:VEVENT
END:VCALENDAR
