BEGIN:VCALENDAR
VERSION:2.0
PRODID:SchoolNow
CALSCALE:GREGORIAN
BEGIN:VEVENT
UID:bc56e66c-5372-11f0-a83f-0273f81fc779
DTSTAMP:20250627T170420Z
SUMMARY:Train & Connect Acadiana Summer Camp: ServSafe Food Protection Mana
 ger Certification
LOCATION:SoLAcc Lafayette Campus\, 1101 Bertrand Drive
URL;VALUE=URI:https://www.solacc.edu/about-us/calendar/8361400/train-connec
 t-acadiana-summer-camp-servsafe-food-protection-manager-certification
DTSTART:20250707T183000Z
DTEND:20250725T212000Z
END:VEVENT
END:VCALENDAR
