BEGIN:VCALENDAR
VERSION:2.0
PRODID:SchoolNow
CALSCALE:GREGORIAN
BEGIN:VEVENT
UID:8a00f856-47ab-11f0-a82d-0a58a9feac02
DTSTAMP:20251016T171910Z
SUMMARY:Limitless Auto Show
LOCATION:Lafayette Campus (320 Devalcourt St.)
URL;VALUE=URI:https://www.solacc.edu/about-us/calendar/8292533/auto-show
DTSTART:20251108T150000Z
DTEND:20251108T180000Z
END:VEVENT
END:VCALENDAR
