BEGIN:VCALENDAR
VERSION:2.0
PRODID:SchoolNow
CALSCALE:GREGORIAN
BEGIN:VEVENT
UID:f95b9d94-46d6-11f0-a631-022fd56b161f
DTSTAMP:20250722T193003Z
SUMMARY:Industrial Trades Job Fair
LOCATION:Cajundome (444 Cajundome Blvd\, Lafayette\, LA)
URL;VALUE=URI:https://www.solacc.edu/about-us/calendar/8285974/industrial-t
 rades-job-fair
DTSTART:20250812T140000Z
DTEND:20250812T170000Z
END:VEVENT
END:VCALENDAR
