BEGIN:VCALENDAR
VERSION:2.0
PRODID:SchoolNow
CALSCALE:GREGORIAN
BEGIN:VEVENT
UID:91873c18-42e0-11f0-8d4a-0a58a9feac02
DTSTAMP:20250606T141433Z
SUMMARY:Career Training Courses Information Session
LOCATION:Lafayette Campus (1101 Bertrand Dr.) - Ardoin Building Room 102
URL;VALUE=URI:https://www.solacc.edu/about-us/calendar/8261543/career-train
 ing-courses-information-session
DTSTART:20250619T150000Z
DTEND:20250619T160000Z
END:VEVENT
END:VCALENDAR
