BEGIN:VCALENDAR
VERSION:2.0
PRODID:SchoolNow
CALSCALE:GREGORIAN
BEGIN:VEVENT
UID:ad26f49a-3fed-11f0-a97d-0a58a9feac02
DTSTAMP:20250603T165249Z
SUMMARY:Honda PACT Information Session
LOCATION:Lafayette Campus\, Devalcourt Auditorium\, 320 Devalcourt Street
URL;VALUE=URI:https://www.solacc.edu/about-us/calendar/8242325/honda-pact-i
 nformation-session-july
DTSTART:20250710T200000Z
DTEND:20250710T210000Z
END:VEVENT
END:VCALENDAR
