BEGIN:VCALENDAR
VERSION:2.0
PRODID:SchoolNow
CALSCALE:GREGORIAN
BEGIN:VEVENT
UID:a37dd35e-3fcb-11f0-b25a-0a58a9feac02
DTSTAMP:20250603T165222Z
SUMMARY:Honda PACT Information Session
LOCATION:Lafayette Campus\, Devalcourt Auditorium\, 320 Devalcourt Street
URL;VALUE=URI:https://www.solacc.edu/about-us/calendar/8240967/honda-pact-i
 nformation-session
DTSTART:20250610T200000Z
DTEND:20250610T210000Z
END:VEVENT
END:VCALENDAR
