BEGIN:VCALENDAR
VERSION:2.0
PRODID:SchoolNow
CALSCALE:GREGORIAN
BEGIN:VEVENT
UID:5fc0afac-34c1-11f0-965d-0a58a9feac02
DTSTAMP:20250519T145558Z
SUMMARY:UL Recruiter Visit
LOCATION:Lafayette Campus - Ardoin Building Room 105
URL;VALUE=URI:https://www.solacc.edu/about-us/calendar/8162636/ul-recruiter
 -visit
DTSTART:20250526T140000Z
DTEND:20250526T170000Z
END:VEVENT
END:VCALENDAR
