BEGIN:VCALENDAR
VERSION:2.0
PRODID:SchoolNow
CALSCALE:GREGORIAN
BEGIN:VEVENT
UID:1561b058-30e5-11f0-945d-0a58a9feac02
DTSTAMP:20250514T170131Z
SUMMARY:Spring 2025 Graduation
LOCATION:CAJUNDOME\, Lafayette\, LA
URL;VALUE=URI:https://www.solacc.edu/about-us/calendar/8134132/spring-2025-
 graduation
DTSTART:20250515T150000Z
DTEND:20250515T170000Z
END:VEVENT
END:VCALENDAR
