BEGIN:VCALENDAR
VERSION:2.0
PRODID:SchoolNow
CALSCALE:GREGORIAN
BEGIN:VEVENT
UID:0080d0d8-2f69-11f0-a263-02ea3126bc8d
DTSTAMP:20250512T194047Z
SUMMARY:Resume Workshop
LOCATION:Lafayette Campus (1101 Betrand Dr.)\, Ardoin Building Room 105
URL;VALUE=URI:https://www.solacc.edu/about-us/calendar/8120839/resume-works
 hop
DTSTART:20250724T170000Z
DTEND:20250724T180000Z
END:VEVENT
END:VCALENDAR
