BEGIN:VCALENDAR
VERSION:2.0
PRODID:SchoolNow
CALSCALE:GREGORIAN
BEGIN:VEVENT
UID:f060cb54-2f68-11f0-a3d1-02921ef69b7d
DTSTAMP:20250512T194020Z
SUMMARY:Resume Workshop
LOCATION:Lafayette Campus (1101 Betrand Dr.)\, Ardoin Building Room 105
URL;VALUE=URI:https://www.solacc.edu/about-us/calendar/8120838/resume-works
 hop
DTSTART:20250618T180000Z
DTEND:20250618T190000Z
END:VEVENT
END:VCALENDAR
