BEGIN:VCALENDAR
VERSION:2.0
PRODID:SchoolNow
CALSCALE:GREGORIAN
BEGIN:VEVENT
UID:dec690b8-2f68-11f0-819e-0affc55b7815
DTSTAMP:20250512T193950Z
SUMMARY:Resume Workshop
LOCATION:Lafayette Campus (1101 Betrand Dr.)\, Ardoin Building Room 105
URL;VALUE=URI:https://www.solacc.edu/about-us/calendar/8120837/resume-works
 hop
DTSTART:20250530T160000Z
DTEND:20250530T170000Z
END:VEVENT
END:VCALENDAR
