BEGIN:VCALENDAR
VERSION:2.0
PRODID:SchoolNow
CALSCALE:GREGORIAN
BEGIN:VEVENT
UID:7e953ed4-2f67-11f0-9aeb-02ea3126bc8d
DTSTAMP:20250512T193000Z
SUMMARY:Resume Workshop
LOCATION:Virtual - register here for the resume workshop to get the link
URL;VALUE=URI:https://www.solacc.edu/about-us/calendar/8120836/resume-works
 hop
DTSTART:20250606T190000Z
DTEND:20250606T200000Z
END:VEVENT
END:VCALENDAR
