BEGIN:VCALENDAR
VERSION:2.0
PRODID:SchoolNow
CALSCALE:GREGORIAN
BEGIN:VEVENT
UID:77253004-2f5e-11f0-8806-0a58a9feac02
DTSTAMP:20250512T193809Z
SUMMARY:Resume Workshop
LOCATION:Virtual - register for the resume workshop here to get the link
URL;VALUE=URI:https://www.solacc.edu/about-us/calendar/8119429/resume-prese
 ntation-clone
DTSTART:20250707T200000Z
DTEND:20250707T210000Z
END:VEVENT
END:VCALENDAR
