BEGIN:VCALENDAR
VERSION:2.0
PRODID:SchoolNow
CALSCALE:GREGORIAN
BEGIN:VEVENT
UID:85431a36-29ee-11f0-ab79-0a58a9feac02
DTSTAMP:20250505T203141Z
SUMMARY:Finance 101: Increase Cash Flow and Manage Debt
LOCATION:Devalcourt Room 206\, Lafayette Campus\, 320 Devalcourt Street
URL;VALUE=URI:https://www.solacc.edu/about-us/calendar/8072868/increase-cas
 h-flow-class
DTSTART:20250523T180000Z
DTEND:20250523T190000Z
END:VEVENT
END:VCALENDAR
