BEGIN:VCALENDAR
VERSION:2.0
PRODID:SchoolNow
CALSCALE:GREGORIAN
BEGIN:VEVENT
UID:0eee54d6-212e-11f0-9d07-0a58a9feac02
DTSTAMP:20250424T170335Z
SUMMARY:UL Recruiter Visit
LOCATION:Lafayette Campus - Ardoin Building Room 105
URL;VALUE=URI:https://www.solacc.edu/about-us/calendar/7999141/ul-recruiter
 -visit
DTSTART:20250501T140000Z
DTEND:20250501T170000Z
END:VEVENT
END:VCALENDAR
