BEGIN:VCALENDAR
VERSION:2.0
PRODID:SchoolNow
CALSCALE:GREGORIAN
BEGIN:VEVENT
UID:4080ae7a-1bbd-11f0-a554-0a58a9feac02
DTSTAMP:20250421T182502Z
SUMMARY:Advising Event (Virtual or In-Person)
LOCATION:Lafayette Campus\, Health and Science Lobby (1101 Bertrand Dr.\, L
 afayette)
URL;VALUE=URI:https://www.solacc.edu/about-us/calendar/7947828/advising-eve
 nt
DTSTART:20250429T160000Z
DTEND:20250429T190000Z
END:VEVENT
END:VCALENDAR
