BEGIN:VCALENDAR
VERSION:2.0
PRODID:SchoolNow
CALSCALE:GREGORIAN
BEGIN:VEVENT
UID:1826029a-1bbd-11f0-b530-023e60c5379f
DTSTAMP:20250421T182528Z
SUMMARY:Advising Event (Virtual or In-Person)
LOCATION:Lafayette Campus\, Devalcourt Auditorium (320 Devalcourt St.\, Laf
 ayette)
URL;VALUE=URI:https://www.solacc.edu/about-us/calendar/7947827/advising-eve
 nt
DTSTART:20250428T160000Z
DTEND:20250428T190000Z
END:VEVENT
END:VCALENDAR
