BEGIN:VCALENDAR
VERSION:2.0
PRODID:SchoolNow
CALSCALE:GREGORIAN
BEGIN:VEVENT
UID:344c8e06-163d-11f0-99cf-0a58a9feac02
DTSTAMP:20250410T192305Z
SUMMARY:Be A SoLAcc Star
LOCATION:SoLAcc Lafayette - Health & Sciences Auditorium
URL;VALUE=URI:https://www.solacc.edu/about-us/calendar/7895519/be-a-solacc-
 star
DTSTART:20250422T130000Z
DTEND:20250422T210000Z
END:VEVENT
END:VCALENDAR
