BEGIN:VCALENDAR
VERSION:2.0
PRODID:SchoolNow
CALSCALE:GREGORIAN
BEGIN:VEVENT
UID:5b0f5c26-157a-11f0-8c05-0e03a1390a99
DTSTAMP:20250409T194204Z
SUMMARY:Career Training Courses Information Session
LOCATION:Virtual - Microsoft Teams
URL;VALUE=URI:https://www.solacc.edu/about-us/calendar/7887715/career-train
 ing-courses-information-session
DTSTART:20250416T180000Z
DTEND:20250416T190000Z
END:VEVENT
END:VCALENDAR
