BEGIN:VCALENDAR
VERSION:2.0
PRODID:SchoolNow
CALSCALE:GREGORIAN
BEGIN:VEVENT
UID:949bf3de-116d-11f0-92f9-0afffa9ecdf5
DTSTAMP:20250404T160304Z
SUMMARY:Finance 101 Class
LOCATION:Devalcourt Room 206\, Lafayette Campus\, 320 Devalcourt Street
URL;VALUE=URI:https://www.solacc.edu/about-us/calendar/7849550/finance-101-
 class
DTSTART:20250425T180000Z
DTEND:20250425T190000Z
END:VEVENT
END:VCALENDAR
