BEGIN:VCALENDAR
VERSION:2.0
PRODID:SchoolNow
CALSCALE:GREGORIAN
BEGIN:VEVENT
UID:419af49e-0e77-11f0-a3ef-0afff23ab077
DTSTAMP:20250331T212941Z
SUMMARY:Southeastern Recruiter Visit
LOCATION:Lafayette Campus - Ardoin Building Room 105
URL;VALUE=URI:https://www.solacc.edu/about-us/calendar/7818835/southeastern
 -recruiter-visit
DTSTART:20250414T150000Z
DTEND:20250414T180000Z
END:VEVENT
END:VCALENDAR
