BEGIN:VCALENDAR
VERSION:2.0
PRODID:SchoolNow
CALSCALE:GREGORIAN
BEGIN:VEVENT
UID:43c3fb94-0e45-11f0-82d1-02633f2f0ce9
DTSTAMP:20250331T153150Z
SUMMARY:Automotive Career Fair
LOCATION:Lafayette Campus\, Devalcourt Auditorium (320 Devalcourt St.\, Laf
 ayette)
URL;VALUE=URI:https://www.solacc.edu/about-us/calendar/7816833/automotive-c
 areer-fair
DTSTART:20250422T160000Z
DTEND:20250422T190000Z
END:VEVENT
END:VCALENDAR
