BEGIN:VCALENDAR
VERSION:2.0
PRODID:SchoolNow
CALSCALE:GREGORIAN
BEGIN:VEVENT
UID:5575e238-0014-11f0-8d20-0a58a9feac02
DTSTAMP:20250313T141003Z
SUMMARY:CC Week: Franklin Campus Open-House
LOCATION:1013 Perret St. Franklin\, LA 70538
URL;VALUE=URI:https://www.solacc.edu/about-us/calendar/7674244/franklin-cam
 pus-open-house
DTSTART:20250324T140000Z
DTEND:20250324T160000Z
END:VEVENT
END:VCALENDAR
