BEGIN:VCALENDAR
VERSION:2.0
PRODID:SchoolNow
CALSCALE:GREGORIAN
BEGIN:VEVENT
UID:50710d5e-fb9a-11ef-999f-0a58a9feac02
DTSTAMP:20250312T205619Z
SUMMARY:Spring Scholarship Reception
LOCATION:Lafayette Campus\, Devalcourt Auditorium - 320 Devalcourt St.\, La
 fayette\, LA
URL;VALUE=URI:https://www.solacc.edu/about-us/calendar/7628784/spring-schol
 arship-reception
DTSTART:20250324T200000Z
DTEND:20250324T213000Z
ATTACH;FILENAME=Spring 2025 Scholarship Reception.png;FMTTYPE=image/png:htt
 ps://campussuite-storage.s3.amazonaws.com/prod/1558538/0d9d10fa-02cc-11e8-
 8e76-12c998a55b1c/2924444/45da8258-fb9a-11ef-a410-0a58a9feac02/file/Spring
  2025 Scholarship Reception.png
END:VEVENT
END:VCALENDAR
