BEGIN:VCALENDAR
VERSION:2.0
PRODID:SchoolNow
CALSCALE:GREGORIAN
BEGIN:VEVENT
UID:60dabb20-f39f-11ef-959b-0e34b2aeef3f
DTSTAMP:20250416T214110Z
SUMMARY:25 in '25 - Medical Lab Science Accreditation Anniversary
LOCATION:SoLAcc Lafayette - Health & Sciences Building
URL;VALUE=URI:https://www.solacc.edu/about-us/calendar/7546405/25-in-25-med
 ical-lab-science-accreditation-anniversary
DTSTART:20250423T160000Z
DTEND:20250423T180000Z
ATTACH;FILENAME=25 in 25 MLS Save the Date.png;FMTTYPE=image/png:https://ca
 mpussuite-storage.s3.amazonaws.com/prod/1558538/0d9d10fa-02cc-11e8-8e76-12
 c998a55b1c/2921470/e760f898-f61b-11ef-ad82-0a58a9feac02/file/25 in 25 MLS 
 Save the Date.png
END:VEVENT
END:VCALENDAR
