BEGIN:VCALENDAR
VERSION:2.0
PRODID:SchoolNow
CALSCALE:GREGORIAN
BEGIN:VEVENT
UID:f9aca488-eaeb-11ef-8fa7-0a58a9feac02
DTSTAMP:20250313T141922Z
SUMMARY:CC Week: Opelousas Campus Career Fair
LOCATION:SoLAcc Opelousas (332 East South St.\, Opelousas)
URL;VALUE=URI:https://www.solacc.edu/about-us/calendar/7468625/opelousas-ca
 mpus-career-fair
DTSTART:20250324T143000Z
DTEND:20250324T170000Z
END:VEVENT
END:VCALENDAR
