BEGIN:VCALENDAR
VERSION:2.0
PRODID:SchoolNow
CALSCALE:GREGORIAN
BEGIN:VEVENT
UID:841c390a-e955-11ef-a611-0a58a9feac02
DTSTAMP:20250212T155044Z
SUMMARY:FAFSA Frenzy #2
LOCATION:Lafayette Campus (1101 Bertrand Dr.)\, Health & Sciences Building\
 , Room 106/108
URL;VALUE=URI:https://www.solacc.edu/about-us/calendar/7458550/fafsa-frenzy
 -lafayette-2
DTSTART:20250220T223000Z
DTEND:20250221T003000Z
END:VEVENT
END:VCALENDAR
