BEGIN:VCALENDAR
VERSION:2.0
PRODID:SchoolNow
CALSCALE:GREGORIAN
BEGIN:VEVENT
UID:53625ed4-e955-11ef-a4a8-0afffdaaaaa7
DTSTAMP:20250218T200824Z
SUMMARY:FAFSA Frenzy #1
LOCATION:Lafayette Campus (1101 Bertrand Dr.)\, Ardoin Building\, Room 105
URL;VALUE=URI:https://www.solacc.edu/about-us/calendar/7458549/fafsa-frenzy
 -lafayette-1
DTSTART:20250218T193000Z
DTEND:20250218T223000Z
END:VEVENT
END:VCALENDAR
