BEGIN:VCALENDAR
VERSION:2.0
PRODID:SchoolNow
CALSCALE:GREGORIAN
BEGIN:VEVENT
UID:526f9a48-e8bd-11ef-900e-0a58a9feac02
DTSTAMP:20250211T211714Z
SUMMARY:Nursing and Allied Health Career Fair
LOCATION:Lafayette Campus\, Devalcourt Auditorium (320 Devalcourt St.\, Laf
 ayette)
URL;VALUE=URI:https://www.solacc.edu/about-us/calendar/7454877/nursing-and-
 allied-health-career-fair
DTSTART:20250402T160000Z
DTEND:20250402T180000Z
END:VEVENT
END:VCALENDAR
