BEGIN:VCALENDAR
VERSION:2.0
PRODID:SchoolNow
CALSCALE:GREGORIAN
BEGIN:VEVENT
UID:1d409750-e8b8-11ef-8b66-0e3c5d0c7871
DTSTAMP:20250211T203829Z
SUMMARY:Liberal Arts and Humanities Career Fair
LOCATION:Lafayette Campus\, Devalcourt Auditorium (320 Devalcourt St.\, Laf
 ayette)
URL;VALUE=URI:https://www.solacc.edu/about-us/calendar/7454850/liberal-arts
 -humanities-career-fair
DTSTART:20250408T140000Z
DTEND:20250408T180000Z
END:VEVENT
END:VCALENDAR
