BEGIN:VCALENDAR
VERSION:2.0
PRODID:SchoolNow
CALSCALE:GREGORIAN
BEGIN:VEVENT
UID:b9134764-e8b7-11ef-b0b6-0a58a9feac02
DTSTAMP:20250211T203525Z
SUMMARY:Abbeville Campus Career Fair
LOCATION:SoLAcc Abbeville (1115 Clover St.\, Abbeville)
URL;VALUE=URI:https://www.solacc.edu/about-us/calendar/7454849/abbeville-ca
 mpus-career-fair
DTSTART:20250318T140000Z
DTEND:20250318T170000Z
END:VEVENT
END:VCALENDAR
