BEGIN:VCALENDAR
VERSION:2.0
PRODID:SchoolNow
CALSCALE:GREGORIAN
BEGIN:VEVENT
UID:5a46bc96-e5a3-11ef-9a00-0a58a9feac02
DTSTAMP:20250207T223235Z
SUMMARY:Medical Lab Science Information Session #3
LOCATION:Webex - Online
URL;VALUE=URI:https://www.solacc.edu/about-us/calendar/7437375/medical-lab-
 science-information-session
DTSTART:20250519T180000Z
DTEND:20250519T191000Z
END:VEVENT
END:VCALENDAR
