BEGIN:VCALENDAR
VERSION:2.0
PRODID:SchoolNow
CALSCALE:GREGORIAN
BEGIN:VEVENT
UID:59af05ac-e5a0-11ef-a46f-0eca2322f465
DTSTAMP:20250207T221347Z
SUMMARY:Medical Lab Science Information Session #2
LOCATION:Webex - Online
URL;VALUE=URI:https://www.solacc.edu/about-us/calendar/7437374/medical-lab-
 science-information-session
DTSTART:20250414T180000Z
DTEND:20250414T191000Z
END:VEVENT
END:VCALENDAR
